BEGIN:VCALENDAR
VERSION:2.0
PRODID:-//Great and Little Hampden Parish Council//Meeting Calendar//EN
CALSCALE:GREGORIAN
METHOD:PUBLISH
BEGIN:VEVENT
UID:70452-20221018@greatandlittlehampdenparishcouncil.gov.uk
DTSTAMP:20260423T082805Z
DTSTART;VALUE=DATE:20221018
DTEND;VALUE=DATE:20221019
SUMMARY:Full Council Meeting &#8211\\; 18th October 2022
DESCRIPTION:Full Council Meeting\nView details: https://greatandlittlehampdenparishcouncil.gov.uk/meetings/full-council-meeting-18th-october-2022/
URL:https://greatandlittlehampdenparishcouncil.gov.uk/meetings/full-council-meeting-18th-october-2022/
END:VEVENT
END:VCALENDAR
