BEGIN:VCALENDAR
VERSION:2.0
PRODID:-//Great and Little Hampden Parish Council//Meeting Calendar//EN
CALSCALE:GREGORIAN
METHOD:PUBLISH
BEGIN:VEVENT
UID:70366-20190910@greatandlittlehampdenparishcouncil.gov.uk
DTSTAMP:20260419T132739Z
DTSTART;VALUE=DATE:20190910
DTEND;VALUE=DATE:20190911
SUMMARY:Full Council Meeting &#8211\\; 10th September 2019
DESCRIPTION:Full Council Meeting\nView details: https://greatandlittlehampdenparishcouncil.gov.uk/meetings/full-council-meeting-10th-september-2019/
URL:https://greatandlittlehampdenparishcouncil.gov.uk/meetings/full-council-meeting-10th-september-2019/
END:VEVENT
END:VCALENDAR
